BEGIN:VCALENDAR
VERSION:2.0
PRODID:-//Dearborn Public Schools - ECPv6.15.17//NONSGML v1.0//EN
CALSCALE:GREGORIAN
METHOD:PUBLISH
X-ORIGINAL-URL:https://dearbornschools.org
X-WR-CALDESC:Events for Dearborn Public Schools
REFRESH-INTERVAL;VALUE=DURATION:PT1H
X-Robots-Tag:noindex
X-PUBLISHED-TTL:PT1H
BEGIN:VTIMEZONE
TZID:America/Detroit
BEGIN:DAYLIGHT
TZOFFSETFROM:-0500
TZOFFSETTO:-0400
TZNAME:EDT
DTSTART:20240310T070000
END:DAYLIGHT
BEGIN:STANDARD
TZOFFSETFROM:-0400
TZOFFSETTO:-0500
TZNAME:EST
DTSTART:20241103T060000
END:STANDARD
BEGIN:DAYLIGHT
TZOFFSETFROM:-0500
TZOFFSETTO:-0400
TZNAME:EDT
DTSTART:20250309T070000
END:DAYLIGHT
BEGIN:STANDARD
TZOFFSETFROM:-0400
TZOFFSETTO:-0500
TZNAME:EST
DTSTART:20251102T060000
END:STANDARD
BEGIN:DAYLIGHT
TZOFFSETFROM:-0500
TZOFFSETTO:-0400
TZNAME:EDT
DTSTART:20260308T070000
END:DAYLIGHT
BEGIN:STANDARD
TZOFFSETFROM:-0400
TZOFFSETTO:-0500
TZNAME:EST
DTSTART:20261101T060000
END:STANDARD
BEGIN:DAYLIGHT
TZOFFSETFROM:-0500
TZOFFSETTO:-0400
TZNAME:EDT
DTSTART:20270314T070000
END:DAYLIGHT
BEGIN:STANDARD
TZOFFSETFROM:-0400
TZOFFSETTO:-0500
TZNAME:EST
DTSTART:20271107T060000
END:STANDARD
END:VTIMEZONE
BEGIN:VEVENT
DTSTART;TZID=America/Detroit:20260418T110000
DTEND;TZID=America/Detroit:20260418T110000
DTSTAMP:20260421T071204
CREATED:20260306T162539Z
LAST-MODIFIED:20260418T145529Z
UID:10000482-1776510000-1776510000@dearbornschools.org
SUMMARY:P-12 Board of Education Special Meeting
DESCRIPTION:The Board of Education is expected to select finalists for the next superintendent of Dearborn Public Schools. \nThis meeting is open to the public.  The agenda will be posted on the Board of Education page before the meeting.
URL:https://dearbornschools.org/event/p-12-board-of-education-special-meeting-6/
LOCATION:Dearborn Public Schools\, 18700 Audette St\, Dearborn\, MI\, United States
CATEGORIES:District Calendar
GEO:42.282956;-83.225747
X-APPLE-STRUCTURED-LOCATION;VALUE=URI;X-ADDRESS=Dearborn Public Schools 18700 Audette St Dearborn MI United States;X-APPLE-RADIUS=500;X-TITLE=18700 Audette St:geo:-83.225747,42.282956
END:VEVENT
BEGIN:VEVENT
DTSTART;TZID=America/Detroit:20260416T180000
DTEND;TZID=America/Detroit:20260416T180000
DTSTAMP:20260421T071204
CREATED:20260306T162539Z
LAST-MODIFIED:20260416T215535Z
UID:10000480-1776362400-1776362400@dearbornschools.org
SUMMARY:P-12 Board of Education Special Meeting
DESCRIPTION:The Board will be conducting its first round of interviews for the next Superintendent of Dearborn Public Schools. \nThis meeting is open to the public.  The agenda will be posted on the Board of Education page before the meeting.
URL:https://dearbornschools.org/event/p-12-board-of-education-special-meeting-5/
LOCATION:Dearborn Public Schools\, 18700 Audette St\, Dearborn\, MI\, United States
CATEGORIES:District Calendar
GEO:42.282956;-83.225747
X-APPLE-STRUCTURED-LOCATION;VALUE=URI;X-ADDRESS=Dearborn Public Schools 18700 Audette St Dearborn MI United States;X-APPLE-RADIUS=500;X-TITLE=18700 Audette St:geo:-83.225747,42.282956
END:VEVENT
BEGIN:VEVENT
DTSTART;TZID=America/Detroit:20260415T180000
DTEND;TZID=America/Detroit:20260415T180000
DTSTAMP:20260421T071204
CREATED:20260306T162539Z
LAST-MODIFIED:20260415T215532Z
UID:10000479-1776276000-1776276000@dearbornschools.org
SUMMARY:P-12 Board of Education Special Meeting
DESCRIPTION:The Board will be conducting its first round of interviews for the next Superintendent of Dearborn Public Schools. \nThis meeting is open to the public.  The agenda will be posted on the Board of Education page before the meeting.
URL:https://dearbornschools.org/event/p-12-board-of-education-special-meeting-4/
LOCATION:Dearborn Public Schools\, 18700 Audette St\, Dearborn\, MI\, United States
CATEGORIES:District Calendar
GEO:42.282956;-83.225747
X-APPLE-STRUCTURED-LOCATION;VALUE=URI;X-ADDRESS=Dearborn Public Schools 18700 Audette St Dearborn MI United States;X-APPLE-RADIUS=500;X-TITLE=18700 Audette St:geo:-83.225747,42.282956
END:VEVENT
BEGIN:VEVENT
DTSTART;TZID=America/Detroit:20260414T180000
DTEND;TZID=America/Detroit:20260414T180000
DTSTAMP:20260421T071204
CREATED:20260306T162539Z
LAST-MODIFIED:20260414T215530Z
UID:10000478-1776189600-1776189600@dearbornschools.org
SUMMARY:P-12 Board of Education Special Meeting
DESCRIPTION:The Board will be conducting its first round of interviews for the next Superintendent of Dearborn Public Schools.  \nThis meeting is open to the public.  The agenda will be posted on the Board of Education page before the meeting.
URL:https://dearbornschools.org/event/p-12-board-of-education-special-meeting-3/
LOCATION:Dearborn Public Schools\, 18700 Audette St\, Dearborn\, MI\, United States
CATEGORIES:District Calendar
GEO:42.282956;-83.225747
X-APPLE-STRUCTURED-LOCATION;VALUE=URI;X-ADDRESS=Dearborn Public Schools 18700 Audette St Dearborn MI United States;X-APPLE-RADIUS=500;X-TITLE=18700 Audette St:geo:-83.225747,42.282956
END:VEVENT
BEGIN:VEVENT
DTSTART;TZID=America/Detroit:20260409T180000
DTEND;TZID=America/Detroit:20260409T180000
DTSTAMP:20260421T071204
CREATED:20260306T162539Z
LAST-MODIFIED:20260409T214038Z
UID:10000477-1775757600-1775757600@dearbornschools.org
SUMMARY:P-12 Board of Education Special Meeting
DESCRIPTION:During a closed session\, the Michigan Leadership Institute will present information about all applicants to the Board of Education. During the public section of the meeting that follows\, the Board will select which applicants they would like to interview as well as what questions to include during the first round of interviews. \nThe meeting agenda will be posted on the Board of Education page before the meeting.
URL:https://dearbornschools.org/event/p-12-board-of-education-special-meeting-2/
LOCATION:Dearborn Public Schools\, 18700 Audette St\, Dearborn\, MI\, United States
CATEGORIES:District Calendar
GEO:42.282956;-83.225747
X-APPLE-STRUCTURED-LOCATION;VALUE=URI;X-ADDRESS=Dearborn Public Schools 18700 Audette St Dearborn MI United States;X-APPLE-RADIUS=500;X-TITLE=18700 Audette St:geo:-83.225747,42.282956
END:VEVENT
BEGIN:VEVENT
DTSTART;TZID=America/Detroit:20260325T140000
DTEND;TZID=America/Detroit:20260325T140000
DTSTAMP:20260421T071204
CREATED:20251114T165544Z
LAST-MODIFIED:20260325T175542Z
UID:10000394-1774447200-1774447200@dearbornschools.org
SUMMARY:Wellness Committee meeting
DESCRIPTION:Dearborn Public Schools will hold two committee meetings this school year as the district looks to assess and update its wellness policy. The public is welcome to attend. \nThe Wellness Committee will meet on Dec. 18\, 2025 and March 25\, 2026 at 2 p.m. in the Administrative Service Center.  The December meeting will be in room 8 and March will be in room 13. Those who would like to learn more can reach out to our Food Services Department at 313-827-3065. \nState rules call for schools to review their required wellness policies at least once every three years.  The committee will look at the district’s wellness policy\, see how that policy compares to model policies\, and look at how well the district has done in attaining policy’s goals.  \nThe current policy calls for initiatives such as ensuring the use of local fresh produce at school lunches\, not using food or drinks as student rewards\, students being taught the importance of physical activity\, not allowing ads for unhealthy snacks and food at school\, and more. The complete policy and more information about the review is available through the Triennial Assessment document.
URL:https://dearbornschools.org/event/wellness-committee-meeting-2/
LOCATION:Dearborn Public Schools\, 18700 Audette St\, Dearborn\, MI\, United States
CATEGORIES:District Calendar
GEO:42.282956;-83.225747
X-APPLE-STRUCTURED-LOCATION;VALUE=URI;X-ADDRESS=Dearborn Public Schools 18700 Audette St Dearborn MI United States;X-APPLE-RADIUS=500;X-TITLE=18700 Audette St:geo:-83.225747,42.282956
END:VEVENT
BEGIN:VEVENT
DTSTART;TZID=America/Detroit:20260105T180000
DTEND;TZID=America/Detroit:20260105T180000
DTSTAMP:20260421T071204
CREATED:20251218T182552Z
LAST-MODIFIED:20260105T225528Z
UID:10000402-1767636000-1767636000@dearbornschools.org
SUMMARY:P-12 Board Study Session
DESCRIPTION:This meeting is open to the public.  The agenda will be posted on the Board of Education page the Friday before the meeting.
URL:https://dearbornschools.org/event/p-12-board-study-session/
LOCATION:Dearborn Public Schools\, 18700 Audette St\, Dearborn\, MI\, United States
CATEGORIES:District Calendar
GEO:42.282956;-83.225747
X-APPLE-STRUCTURED-LOCATION;VALUE=URI;X-ADDRESS=Dearborn Public Schools 18700 Audette St Dearborn MI United States;X-APPLE-RADIUS=500;X-TITLE=18700 Audette St:geo:-83.225747,42.282956
END:VEVENT
BEGIN:VEVENT
DTSTART;TZID=America/Detroit:20251218T140000
DTEND;TZID=America/Detroit:20251218T140000
DTSTAMP:20260421T071204
CREATED:20251114T165541Z
LAST-MODIFIED:20251218T185539Z
UID:10000393-1766066400-1766066400@dearbornschools.org
SUMMARY:Wellness committee meeting
DESCRIPTION:Dearborn Public Schools will hold two committee meetings this school year as the district looks to assess and update its wellness policy. The public is welcome to attend. \nThe Wellness Committee will meet on Dec. 18\, 2025 and March 25\, 2026 at 2 p.m. in the Administrative Service Center.  The December meeting will be in room 8 and March will be in room 13. Those who would like to learn more can reach out to our Food Services Department at 313-827-3065. \nState rules call for schools to review their required wellness policies at least once every three years.  The committee will look at the district’s wellness policy\, see how that policy compares to model policies\, and look at how well the district has done in attaining policy’s goals.  \nThe current policy calls for initiatives such as ensuring the use of local fresh produce at school lunches\, not using food or drinks as student rewards\, students being taught the importance of physical activity\, not allowing ads for unhealthy snacks and food at school\, and more. The complete policy and more information about the review is available through the Triennial Assessment document.
URL:https://dearbornschools.org/event/wellness-committee-meeting/
LOCATION:Dearborn Public Schools\, 18700 Audette St\, Dearborn\, MI\, United States
CATEGORIES:District Calendar
GEO:42.282956;-83.225747
X-APPLE-STRUCTURED-LOCATION;VALUE=URI;X-ADDRESS=Dearborn Public Schools 18700 Audette St Dearborn MI United States;X-APPLE-RADIUS=500;X-TITLE=18700 Audette St:geo:-83.225747,42.282956
END:VEVENT
BEGIN:VEVENT
DTSTART;TZID=America/Detroit:20250818T190000
DTEND;TZID=America/Detroit:20250818T190000
DTSTAMP:20260421T071204
CREATED:20250624T145530Z
LAST-MODIFIED:20250818T221037Z
UID:10000377-1755543600-1755543600@dearbornschools.org
SUMMARY:P-12 Board of Education Meeting
DESCRIPTION:This meeting is open to the public.  The agenda will be posted on the Board of Education page the Friday before the meeting.
URL:https://dearbornschools.org/event/p-12-board-of-education-meeting-12/
LOCATION:Dearborn Public Schools\, 18700 Audette St\, Dearborn\, MI\, United States
CATEGORIES:District Calendar
GEO:42.282956;-83.225747
X-APPLE-STRUCTURED-LOCATION;VALUE=URI;X-ADDRESS=Dearborn Public Schools 18700 Audette St Dearborn MI United States;X-APPLE-RADIUS=500;X-TITLE=18700 Audette St:geo:-83.225747,42.282956
END:VEVENT
BEGIN:VEVENT
DTSTART;TZID=America/Detroit:20250512T190000
DTEND;TZID=America/Detroit:20250512T193000
DTSTAMP:20260421T071204
CREATED:20240607T214101Z
LAST-MODIFIED:20250512T225530Z
UID:10000298-1747076400-1747078200@dearbornschools.org
SUMMARY:P-12 Board of Education Meeting
DESCRIPTION:This meeting is open to the public.  The agenda will be posted on the Board of Education page the Friday before the meeting.
URL:https://dearbornschools.org/event/p-12-board-of-education-meeting-24/
LOCATION:Dearborn Public Schools\, 18700 Audette St\, Dearborn\, MI\, United States
CATEGORIES:District Calendar
GEO:42.282956;-83.225747
X-APPLE-STRUCTURED-LOCATION;VALUE=URI;X-ADDRESS=Dearborn Public Schools 18700 Audette St Dearborn MI United States;X-APPLE-RADIUS=500;X-TITLE=18700 Audette St:geo:-83.225747,42.282956
END:VEVENT
BEGIN:VEVENT
DTSTART;TZID=America/Detroit:20250505T180000
DTEND;TZID=America/Detroit:20250505T180000
DTSTAMP:20260421T071204
CREATED:20250422T131050Z
LAST-MODIFIED:20250505T211034Z
UID:10000262-1746468000-1746468000@dearbornschools.org
SUMMARY:P-12 Board Study Session (Infrastructure Discussion)
DESCRIPTION:This meeting is open to the public.  The agenda will be posted on the Board of Education page the Friday before the meeting.
URL:https://dearbornschools.org/event/study-session-infrastructure-discussion/
LOCATION:Dearborn Public Schools\, 18700 Audette St\, Dearborn\, MI\, United States
CATEGORIES:District Calendar
GEO:42.282956;-83.225747
X-APPLE-STRUCTURED-LOCATION;VALUE=URI;X-ADDRESS=Dearborn Public Schools 18700 Audette St Dearborn MI United States;X-APPLE-RADIUS=500;X-TITLE=18700 Audette St:geo:-83.225747,42.282956
END:VEVENT
END:VCALENDAR